Package: koinar Version: 1.1.2 Command: rm -rf koinar.buildbin-libdir && mkdir koinar.buildbin-libdir && E:\biocbuild\bbs-3.21-bioc\R\bin\R.exe CMD INSTALL --build --library=koinar.buildbin-libdir koinar_1.1.2.tar.gz StartedAt: 2025-02-10 08:01:25 -0500 (Mon, 10 Feb 2025) EndedAt: 2025-02-10 08:01:41 -0500 (Mon, 10 Feb 2025) EllapsedTime: 16.3 seconds RetCode: 0 Status: OK PackageFile: koinar_1.1.2.zip PackageFileSize: 806.9 KiB