Package: koinar Version: 1.1.2 Command: chmod a+r koinar -R && E:\biocbuild\bbs-3.21-bioc\R\bin\R.exe CMD build --keep-empty-dirs --no-resave-data koinar StartedAt: 2025-02-09 19:31:47 -0500 (Sun, 09 Feb 2025) EndedAt: 2025-02-09 19:32:39 -0500 (Sun, 09 Feb 2025) EllapsedTime: 52.2 seconds RetCode: 0 Status: OK PackageFile: koinar_1.1.2.tar.gz PackageFileSize: 781.2 KiB