############################################################################## ############################################################################## ### ### Running command: ### ### /Library/Frameworks/R.framework/Resources/bin/R CMD build --keep-empty-dirs --no-resave-data lapmix ### ############################################################################## ############################################################################## * checking for file ‘lapmix/DESCRIPTION’ ... OK * preparing ‘lapmix’: * checking DESCRIPTION meta-information ... OK * installing the package to build vignettes ----------------------------------- * installing *source* package ‘lapmix’ ... ** this is package ‘lapmix’ version ‘1.73.0’ ** using staged installation ** R ** byte-compile and prepare package for lazy loading Error: object ‘showMlist’ is not exported by 'namespace:methods' Execution halted ERROR: lazy loading failed for package ‘lapmix’ * removing ‘/private/var/folders/r0/l4fjk6cj5xj0j3brt4bplpl40000gt/T/RtmpzpHIZp/Rinste9496b3a8030/lapmix’ ----------------------------------- ERROR: package installation failed