Package: lapmix Version: 1.73.0 Command: /Library/Frameworks/R.framework/Resources/bin/R CMD INSTALL lapmix StartedAt: 2025-02-09 15:02:54 -0500 (Sun, 09 Feb 2025) EndedAt: 2025-02-09 15:02:56 -0500 (Sun, 09 Feb 2025) EllapsedTime: 1.8 seconds RetCode: 1 Status: ERROR