############################################################################## ############################################################################## ### ### Running command: ### ### /home/biocbuild/R/R/bin/R CMD build --keep-empty-dirs --no-resave-data lapmix ### ############################################################################## ############################################################################## * checking for file ‘lapmix/DESCRIPTION’ ... OK * preparing ‘lapmix’: * checking DESCRIPTION meta-information ... OK * installing the package to build vignettes ----------------------------------- * installing *source* package ‘lapmix’ ... ** using staged installation ** R ** byte-compile and prepare package for lazy loading Error: object ‘showMlist’ is not exported by 'namespace:methods' Execution halted ERROR: lazy loading failed for package ‘lapmix’ * removing ‘/home/biocbuild/tmp/RtmpxL4WyW/Rinstb7a047c1daf48/lapmix’ ----------------------------------- ERROR: package installation failed