############################################################################## ############################################################################## ### ### Running command: ### ### /home/biocbuild/R/R/bin/R CMD INSTALL lapmix ### ############################################################################## ############################################################################## * installing to library ‘/home/biocbuild/R/R-4.5.0-devel_2024-11-24/site-library’ * installing *source* package ‘lapmix’ ... ** using staged installation ** R ** byte-compile and prepare package for lazy loading Error: object ‘showMlist’ is not exported by 'namespace:methods' Execution halted ERROR: lazy loading failed for package ‘lapmix’ * removing ‘/home/biocbuild/R/R-4.5.0-devel_2024-11-24/site-library/lapmix’