Package: lapmix Version: 1.73.0 Command: /home/biocbuild/R/R/bin/R CMD INSTALL lapmix StartedAt: 2025-01-29 19:34:14 -0000 (Wed, 29 Jan 2025) EndedAt: 2025-01-29 19:34:26 -0000 (Wed, 29 Jan 2025) EllapsedTime: 11.9 seconds RetCode: 1 Status: ERROR