############################################################################## ############################################################################## ### ### Running command: ### ### /Library/Frameworks/R.framework/Resources/bin/R CMD INSTALL lapmix ### ############################################################################## ############################################################################## * installing to library ‘/Library/Frameworks/R.framework/Versions/4.5-x86_64/Resources/library’ * installing *source* package ‘lapmix’ ... ** this is package ‘lapmix’ version ‘1.73.0’ ** using staged installation ** R ** byte-compile and prepare package for lazy loading Error: object ‘showMlist’ is not exported by 'namespace:methods' Execution halted ERROR: lazy loading failed for package ‘lapmix’ * removing ‘/Library/Frameworks/R.framework/Versions/4.5-x86_64/Resources/library/lapmix’