Package: lapmix Version: 1.73.0 Command: /Library/Frameworks/R.framework/Resources/bin/R CMD INSTALL lapmix StartedAt: 2025-02-09 15:06:39 -0500 (Sun, 09 Feb 2025) EndedAt: 2025-02-09 15:07:05 -0500 (Sun, 09 Feb 2025) EllapsedTime: 26.4 seconds RetCode: 1 Status: ERROR