Package: lapmix Version: 1.73.0 Command: /home/biocbuild/bbs-3.21-bioc/R/bin/R CMD INSTALL lapmix StartedAt: 2025-02-09 15:12:02 -0500 (Sun, 09 Feb 2025) EndedAt: 2025-02-09 15:12:04 -0500 (Sun, 09 Feb 2025) EllapsedTime: 1.3 seconds RetCode: 1 Status: ERROR