Package: lapmix Version: 1.73.0 Command: chmod a+r lapmix -R && E:\biocbuild\bbs-3.21-bioc\R\bin\R.exe CMD build --keep-empty-dirs --no-resave-data lapmix StartedAt: 2025-02-09 19:31:55 -0500 (Sun, 09 Feb 2025) EndedAt: 2025-02-09 19:32:03 -0500 (Sun, 09 Feb 2025) EllapsedTime: 7.4 seconds RetCode: 1 Status: ERROR PackageFile: None PackageFileSize: NA