Package: lapmix Version: 1.73.0 Command: E:\biocbuild\bbs-3.21-bioc\R\bin\R.exe CMD INSTALL lapmix StartedAt: 2025-02-09 15:26:34 -0500 (Sun, 09 Feb 2025) EndedAt: 2025-02-09 15:26:36 -0500 (Sun, 09 Feb 2025) EllapsedTime: 2.9 seconds RetCode: 1 Status: ERROR