Package: ldblock Version: 1.37.0 Command: rm -rf ldblock.buildbin-libdir && mkdir ldblock.buildbin-libdir && /Users/biocbuild/BBS/utils/build-universal.sh ldblock_1.37.0.tar.gz /Library/Frameworks/R.framework/Resources/bin/R ldblock.buildbin-libdir StartedAt: 2025-02-04 22:20:53 -0500 (Tue, 04 Feb 2025) EndedAt: 2025-02-04 22:20:58 -0500 (Tue, 04 Feb 2025) EllapsedTime: 5.1 seconds RetCode: 0 Status: OK PackageFile: ldblock_1.37.0.tgz PackageFileSize: 40.29 MiB