Package: ldblock Version: 1.37.0 Command: /Library/Frameworks/R.framework/Resources/bin/R CMD build --keep-empty-dirs --no-resave-data ldblock StartedAt: 2025-02-03 17:14:42 -0500 (Mon, 03 Feb 2025) EndedAt: 2025-02-03 17:15:33 -0500 (Mon, 03 Feb 2025) EllapsedTime: 51.7 seconds RetCode: 0 Status: OK PackageFile: ldblock_1.37.0.tar.gz PackageFileSize: 40.13 MiB