Package: ldblock Version: 1.37.0 Command: /Library/Frameworks/R.framework/Resources/bin/R CMD INSTALL ldblock StartedAt: 2025-02-09 15:08:07 -0500 (Sun, 09 Feb 2025) EndedAt: 2025-02-09 15:08:35 -0500 (Sun, 09 Feb 2025) EllapsedTime: 27.7 seconds RetCode: 0 Status: OK