Package: ldblock Version: 1.37.0 Command: /home/biocbuild/bbs-3.21-bioc/R/bin/R CMD check --install=check:ldblock.install-out.txt --library=/home/biocbuild/bbs-3.21-bioc/R/site-library --timings ldblock_1.37.0.tar.gz StartedAt: 2025-02-09 23:36:29 -0500 (Sun, 09 Feb 2025) EndedAt: 2025-02-09 23:38:26 -0500 (Sun, 09 Feb 2025) EllapsedTime: 117.2 seconds RetCode: 0 Status: OK CheckDir: ldblock.Rcheck Warnings: 0