Package: ldblock Version: 1.37.0 Command: chmod a+r ldblock -R && E:\biocbuild\bbs-3.21-bioc\R\bin\R.exe CMD build --keep-empty-dirs --no-resave-data ldblock StartedAt: 2025-02-09 19:32:03 -0500 (Sun, 09 Feb 2025) EndedAt: 2025-02-09 19:33:11 -0500 (Sun, 09 Feb 2025) EllapsedTime: 69.0 seconds RetCode: 0 Status: OK PackageFile: ldblock_1.37.0.tar.gz PackageFileSize: 40.04 MiB