Package: ldblock Version: 1.37.0 Command: E:\biocbuild\bbs-3.21-bioc\R\bin\R.exe CMD INSTALL ldblock StartedAt: 2025-02-09 15:29:47 -0500 (Sun, 09 Feb 2025) EndedAt: 2025-02-09 15:30:06 -0500 (Sun, 09 Feb 2025) EllapsedTime: 19.3 seconds RetCode: 0 Status: OK