Package: lefser Version: 1.17.4 Maintainer: Sehyun Oh MaintainerEmail: shbrief at gmail.com git_url: https://git.bioconductor.org/packages/lefser git_branch: devel git_last_commit: bcfdcfa git_last_commit_date: 2025-01-23 14:29:15 -0500 (Thu, 23 Jan 2025)