Package: lefser Version: 1.17.4 Command: /Library/Frameworks/R.framework/Resources/bin/R CMD INSTALL lefser StartedAt: 2025-02-09 15:25:29 -0500 (Sun, 09 Feb 2025) EndedAt: 2025-02-09 15:25:40 -0500 (Sun, 09 Feb 2025) EllapsedTime: 10.7 seconds RetCode: 0 Status: OK