Package: lefser Version: 1.17.4 Command: /home/biocbuild/R/R/bin/R CMD check --install=check:lefser.install-out.txt --library=/home/biocbuild/R/R/site-library --no-vignettes --timings lefser_1.17.4.tar.gz StartedAt: 2025-01-28 11:54:00 -0000 (Tue, 28 Jan 2025) EndedAt: 2025-01-28 11:59:35 -0000 (Tue, 28 Jan 2025) EllapsedTime: 335.5 seconds RetCode: 0 Status: WARNINGS CheckDir: lefser.Rcheck Warnings: 1