Package: lefser Version: 1.17.4 Command: rm -rf lefser.buildbin-libdir && mkdir lefser.buildbin-libdir && /Users/biocbuild/BBS/utils/build-universal.sh lefser_1.17.4.tar.gz /Library/Frameworks/R.framework/Resources/bin/R lefser.buildbin-libdir StartedAt: 2025-02-10 01:00:00 -0500 (Mon, 10 Feb 2025) EndedAt: 2025-02-10 01:00:39 -0500 (Mon, 10 Feb 2025) EllapsedTime: 39.6 seconds RetCode: 0 Status: OK PackageFile: lefser_1.17.4.tgz PackageFileSize: 668.8 KiB