Package: lefser Version: 1.17.4 Command: /Library/Frameworks/R.framework/Resources/bin/R CMD build --keep-empty-dirs --no-resave-data lefser StartedAt: 2025-02-09 17:14:56 -0500 (Sun, 09 Feb 2025) EndedAt: 2025-02-09 17:15:54 -0500 (Sun, 09 Feb 2025) EllapsedTime: 58.2 seconds RetCode: 0 Status: OK PackageFile: lefser_1.17.4.tar.gz PackageFileSize: 614.1 KiB