Package: lefser Version: 1.17.4 Command: /Library/Frameworks/R.framework/Resources/bin/R CMD check --install=check:lefser.install-out.txt --library=/Library/Frameworks/R.framework/Resources/library --no-vignettes --timings lefser_1.17.4.tar.gz StartedAt: 2025-02-09 21:33:24 -0500 (Sun, 09 Feb 2025) EndedAt: 2025-02-09 21:38:29 -0500 (Sun, 09 Feb 2025) EllapsedTime: 305.5 seconds RetCode: 0 Status: WARNINGS CheckDir: lefser.Rcheck Warnings: 1