Package: lefser Version: 1.17.4 Command: /home/biocbuild/bbs-3.21-bioc/R/bin/R CMD build --keep-empty-dirs --no-resave-data lefser StartedAt: 2025-02-09 17:51:28 -0500 (Sun, 09 Feb 2025) EndedAt: 2025-02-09 17:52:16 -0500 (Sun, 09 Feb 2025) EllapsedTime: 48.1 seconds RetCode: 0 Status: OK PackageFile: lefser_1.17.4.tar.gz PackageFileSize: 601.2 KiB