Package: lefser Version: 1.17.4 Command: /home/biocbuild/bbs-3.21-bioc/R/bin/R CMD check --install=check:lefser.install-out.txt --library=/home/biocbuild/bbs-3.21-bioc/R/site-library --timings lefser_1.17.4.tar.gz StartedAt: 2025-02-09 23:37:20 -0500 (Sun, 09 Feb 2025) EndedAt: 2025-02-09 23:42:03 -0500 (Sun, 09 Feb 2025) EllapsedTime: 282.6 seconds RetCode: 0 Status: WARNINGS CheckDir: lefser.Rcheck Warnings: 1