Package: lefser Version: 1.17.4 Command: /home/biocbuild/bbs-3.21-bioc/R/bin/R CMD INSTALL lefser StartedAt: 2025-02-09 15:54:44 -0500 (Sun, 09 Feb 2025) EndedAt: 2025-02-09 15:55:09 -0500 (Sun, 09 Feb 2025) EllapsedTime: 25.6 seconds RetCode: 0 Status: OK