Package: lefser Version: 1.17.4 Command: chmod a+r lefser -R && E:\biocbuild\bbs-3.21-bioc\R\bin\R.exe CMD build --keep-empty-dirs --no-resave-data lefser StartedAt: 2025-02-09 19:32:17 -0500 (Sun, 09 Feb 2025) EndedAt: 2025-02-09 19:33:24 -0500 (Sun, 09 Feb 2025) EllapsedTime: 67.2 seconds RetCode: 0 Status: OK PackageFile: lefser_1.17.4.tar.gz PackageFileSize: 518.5 KiB