Package: lemur Version: 1.5.0 Command: /home/biocbuild/R/R/bin/R CMD build --keep-empty-dirs --no-resave-data lemur StartedAt: 2025-01-28 23:54:07 -0000 (Tue, 28 Jan 2025) EndedAt: 2025-01-28 23:56:33 -0000 (Tue, 28 Jan 2025) EllapsedTime: 146.1 seconds RetCode: 0 Status: OK PackageFile: lemur_1.5.0.tar.gz PackageFileSize: 3.332 MiB