Package: lemur Version: 1.5.0 Command: /home/biocbuild/R/R/bin/R CMD INSTALL lemur StartedAt: 2025-01-29 19:45:56 -0000 (Wed, 29 Jan 2025) EndedAt: 2025-01-29 19:46:54 -0000 (Wed, 29 Jan 2025) EllapsedTime: 58.2 seconds RetCode: 0 Status: OK