Package: lemur Version: 1.5.0 Command: /Library/Frameworks/R.framework/Resources/bin/R CMD build --keep-empty-dirs --no-resave-data lemur StartedAt: 2025-02-04 17:10:41 -0500 (Tue, 04 Feb 2025) EndedAt: 2025-02-04 17:12:25 -0500 (Tue, 04 Feb 2025) EllapsedTime: 104.1 seconds RetCode: 0 Status: OK PackageFile: lemur_1.5.0.tar.gz PackageFileSize: 3.529 MiB