Package: lemur Version: 1.5.0 Command: /Library/Frameworks/R.framework/Resources/bin/R CMD INSTALL lemur StartedAt: 2025-02-04 15:14:01 -0500 (Tue, 04 Feb 2025) EndedAt: 2025-02-04 15:14:55 -0500 (Tue, 04 Feb 2025) EllapsedTime: 53.2 seconds RetCode: 0 Status: OK