Package: lfa Version: 2.7.0 Command: /Library/Frameworks/R.framework/Resources/bin/R CMD build --keep-empty-dirs --no-resave-data lfa StartedAt: 2025-02-12 16:46:13 -0500 (Wed, 12 Feb 2025) EndedAt: 2025-02-12 16:46:19 -0500 (Wed, 12 Feb 2025) EllapsedTime: 6.1 seconds RetCode: 0 Status: OK PackageFile: lfa_2.7.0.tar.gz PackageFileSize: 341.1 KiB