Package: lfa Version: 2.7.0 Command: /Library/Frameworks/R.framework/Resources/bin/R CMD check --install=check:lfa.install-out.txt --library=/Library/Frameworks/R.framework/Resources/library --no-vignettes --timings lfa_2.7.0.tar.gz StartedAt: 2025-02-09 19:51:06 -0500 (Sun, 09 Feb 2025) EndedAt: 2025-02-09 19:51:24 -0500 (Sun, 09 Feb 2025) EllapsedTime: 18.2 seconds RetCode: 0 Status: OK CheckDir: lfa.Rcheck Warnings: 0