Package: lfa Version: 2.7.0 Command: /Library/Frameworks/R.framework/Resources/bin/R CMD INSTALL lfa StartedAt: 2025-02-12 15:01:38 -0500 (Wed, 12 Feb 2025) EndedAt: 2025-02-12 15:01:50 -0500 (Wed, 12 Feb 2025) EllapsedTime: 12.4 seconds RetCode: 0 Status: OK