Package: lfa Version: 2.7.0 Command: /home/biocbuild/R/R/bin/R CMD build --keep-empty-dirs --no-resave-data lfa StartedAt: 2025-01-28 23:54:40 -0000 (Tue, 28 Jan 2025) EndedAt: 2025-01-28 23:54:51 -0000 (Tue, 28 Jan 2025) EllapsedTime: 11.0 seconds RetCode: 0 Status: OK PackageFile: lfa_2.7.0.tar.gz PackageFileSize: 409.3 KiB