Package: lfa Version: 2.7.0 Command: rm -rf lfa.buildbin-libdir && mkdir lfa.buildbin-libdir && /Users/biocbuild/BBS/utils/build-universal.sh lfa_2.7.0.tar.gz /Library/Frameworks/R.framework/Resources/bin/R lfa.buildbin-libdir StartedAt: 2025-02-13 00:43:06 -0500 (Thu, 13 Feb 2025) EndedAt: 2025-02-13 00:43:14 -0500 (Thu, 13 Feb 2025) EllapsedTime: 8.2 seconds RetCode: 0 Status: OK PackageFile: lfa_2.7.0.tgz PackageFileSize: 517 KiB