Package: lfa Version: 2.7.0 Command: /Library/Frameworks/R.framework/Resources/bin/R CMD INSTALL lfa StartedAt: 2025-02-12 15:04:35 -0500 (Wed, 12 Feb 2025) EndedAt: 2025-02-12 15:05:11 -0500 (Wed, 12 Feb 2025) EllapsedTime: 36.1 seconds RetCode: 0 Status: OK