Package: lfa Version: 2.7.0 Command: /home/biocbuild/bbs-3.21-bioc/R/bin/R CMD build --keep-empty-dirs --no-resave-data lfa StartedAt: 2025-02-09 17:51:46 -0500 (Sun, 09 Feb 2025) EndedAt: 2025-02-09 17:51:55 -0500 (Sun, 09 Feb 2025) EllapsedTime: 9.1 seconds RetCode: 0 Status: OK PackageFile: lfa_2.7.0.tar.gz PackageFileSize: 341.1 KiB