Package: lfa Version: 2.7.0 Command: /home/biocbuild/bbs-3.21-bioc/R/bin/R CMD INSTALL lfa StartedAt: 2025-02-09 15:05:47 -0500 (Sun, 09 Feb 2025) EndedAt: 2025-02-09 15:05:57 -0500 (Sun, 09 Feb 2025) EllapsedTime: 10.0 seconds RetCode: 0 Status: OK