Package: limmaGUI Version: 1.83.0 Command: /Library/Frameworks/R.framework/Resources/bin/R CMD INSTALL limmaGUI StartedAt: 2025-02-12 15:02:40 -0500 (Wed, 12 Feb 2025) EndedAt: 2025-02-12 15:02:50 -0500 (Wed, 12 Feb 2025) EllapsedTime: 10.5 seconds RetCode: 0 Status: OK