Package: limmaGUI Version: 1.83.0 Command: /home/biocbuild/R/R/bin/R CMD build --keep-empty-dirs --no-resave-data limmaGUI StartedAt: 2025-01-28 23:54:50 -0000 (Tue, 28 Jan 2025) EndedAt: 2025-01-28 23:55:20 -0000 (Tue, 28 Jan 2025) EllapsedTime: 30.0 seconds RetCode: 0 Status: OK PackageFile: limmaGUI_1.83.0.tar.gz PackageFileSize: 5.34 MiB