Package: limmaGUI Version: 1.83.0 Command: /home/biocbuild/R/R/bin/R CMD check --install=check:limmaGUI.install-out.txt --library=/home/biocbuild/R/R/site-library --no-vignettes --timings limmaGUI_1.83.0.tar.gz StartedAt: 2025-01-28 11:55:13 -0000 (Tue, 28 Jan 2025) EndedAt: 2025-01-28 11:56:15 -0000 (Tue, 28 Jan 2025) EllapsedTime: 62.1 seconds RetCode: 0 Status: OK CheckDir: limmaGUI.Rcheck Warnings: 0