Package: limmaGUI Version: 1.83.0 Command: /Library/Frameworks/R.framework/Resources/bin/R CMD build --keep-empty-dirs --no-resave-data limmaGUI StartedAt: 2025-02-12 17:11:53 -0500 (Wed, 12 Feb 2025) EndedAt: 2025-02-12 17:12:32 -0500 (Wed, 12 Feb 2025) EllapsedTime: 38.8 seconds RetCode: 0 Status: OK PackageFile: limmaGUI_1.83.0.tar.gz PackageFileSize: 5.346 MiB