Package: limmaGUI Version: 1.83.0 Command: rm -rf limmaGUI.buildbin-libdir && mkdir limmaGUI.buildbin-libdir && E:\biocbuild\bbs-3.21-bioc\R\bin\R.exe CMD INSTALL --build --library=limmaGUI.buildbin-libdir limmaGUI_1.83.0.tar.gz StartedAt: 2025-02-10 08:01:59 -0500 (Mon, 10 Feb 2025) EndedAt: 2025-02-10 08:03:14 -0500 (Mon, 10 Feb 2025) EllapsedTime: 75.4 seconds RetCode: 0 Status: OK PackageFile: limmaGUI_1.83.0.zip PackageFileSize: 5.898 MiB