Package: limmaGUI Version: 1.83.0 Command: E:\biocbuild\bbs-3.21-bioc\R\bin\R.exe CMD check --no-multiarch --install=check:limmaGUI.install-out.txt --library=E:\biocbuild\bbs-3.21-bioc\R\library --no-vignettes --timings limmaGUI_1.83.0.tar.gz StartedAt: 2025-02-10 02:23:25 -0500 (Mon, 10 Feb 2025) EndedAt: 2025-02-10 02:24:31 -0500 (Mon, 10 Feb 2025) EllapsedTime: 66.0 seconds RetCode: 0 Status: OK CheckDir: limmaGUI.Rcheck Warnings: 0