Package: limmaGUI Version: 1.83.0 Command: E:\biocbuild\bbs-3.21-bioc\R\bin\R.exe CMD INSTALL limmaGUI StartedAt: 2025-02-09 15:26:59 -0500 (Sun, 09 Feb 2025) EndedAt: 2025-02-09 15:28:11 -0500 (Sun, 09 Feb 2025) EllapsedTime: 72.2 seconds RetCode: 0 Status: OK