Package: limpca Version: 1.3.0 Command: /Library/Frameworks/R.framework/Resources/bin/R CMD build --keep-empty-dirs --no-resave-data limpca StartedAt: 2025-02-04 16:46:22 -0500 (Tue, 04 Feb 2025) EndedAt: 2025-02-04 16:47:11 -0500 (Tue, 04 Feb 2025) EllapsedTime: 48.6 seconds RetCode: 0 Status: OK PackageFile: limpca_1.3.0.tar.gz PackageFileSize: 5.168 MiB