Package: limpca Version: 1.3.0 Command: /home/biocbuild/R/R/bin/R CMD build --keep-empty-dirs --no-resave-data limpca StartedAt: 2025-01-28 23:54:51 -0000 (Tue, 28 Jan 2025) EndedAt: 2025-01-28 23:57:44 -0000 (Tue, 28 Jan 2025) EllapsedTime: 173.1 seconds RetCode: 0 Status: OK PackageFile: limpca_1.3.0.tar.gz PackageFileSize: 3.066 MiB