Package: limpca Version: 1.3.0 Command: /home/biocbuild/R/R/bin/R CMD INSTALL limpca StartedAt: 2025-01-29 20:32:18 -0000 (Wed, 29 Jan 2025) EndedAt: 2025-01-29 20:32:52 -0000 (Wed, 29 Jan 2025) EllapsedTime: 33.7 seconds RetCode: 0 Status: OK